BEGIN:VCALENDAR
VERSION:2.0
PRODID:-//Itin - ECPv4.9.0.3//NONSGML v1.0//EN
CALSCALE:GREGORIAN
METHOD:PUBLISH
X-WR-CALNAME:Itin
X-ORIGINAL-URL:https://itin.lu
X-WR-CALDESC:Events for Itin
BEGIN:VEVENT
DTSTART;TZID=UTC+0:20191106T063000
DTEND;TZID=UTC+0:20191106T203000
DTSTAMP:20200812T044135
CREATED:20191024T104048Z
LAST-MODIFIED:20191024T104221Z
UID:509-1573021800-1573072200@itin.lu
SUMMARY:The Castello di Rivoli and its collections
DESCRIPTION:L’Ambasciata d’Italia\, in collaborazione con il Mudam di Lussemburgo\, organizza una presentazione del Museo di Rivoli\, apprezzato in Italia e all’estero come uno dei più qualificati punti di riferimento per l’arte contemporanea. La Direttrice Carolyn Christov Bakargiev\, testimonial dell’evento\, metterà in evidenza alcune delle più prestigiose collezioni permanenti di arte contemporanea dagli anni ’60 ad oggi ospitate nel Castello di Rivoli\, conosciuto a livello internazionale come sede di mostre eventi e attività culturali. \n		0			\n	
URL:https://itin.lu/event/the-castello-di-rivoli-and-its-collections/
LOCATION:MUDAM – Musée d’Art Contemporain Grand-Duc Jean\, MUDAM-3 Park Drai Eechelen\, Luxembourg\, 1499\, Luxembourg
GEO:49.6168646;6.1402619
X-APPLE-STRUCTURED-LOCATION;VALUE=URI;X-ADDRESS=MUDAM – Musée d’Art Contemporain Grand-Duc Jean MUDAM-3 Park Drai Eechelen Luxembourg 1499 Luxembourg;X-APPLE-RADIUS=500;X-TITLE=MUDAM-3 Park Drai Eechelen:geo:6.1402619,49.6168646
END:VEVENT
END:VCALENDAR