BEGIN:VCALENDAR
VERSION:2.0
PRODID:-//Itin - ECPv4.9.0.3//NONSGML v1.0//EN
CALSCALE:GREGORIAN
METHOD:PUBLISH
X-WR-CALNAME:Itin
X-ORIGINAL-URL:https://itin.lu
X-WR-CALDESC:Events for Itin
BEGIN:VEVENT
DTSTART;TZID=UTC+0:20191020T180000
DTEND;TZID=UTC+0:20191020T180000
DTSTAMP:20200812T044237
CREATED:20190930T105322Z
LAST-MODIFIED:20190930T145700Z
UID:481-1571594400-1571594400@itin.lu
SUMMARY:Concerto "Sempre Verdi" - Lussemburgo\, domenica 20 ottobre alle ore 18.
DESCRIPTION:In occasione della “Settimana della Lingua e Cultura Italiana nel Mondo”\, l’Ambasciata d’Italia a Lussemburgo\, in collaborazione con la Fondazione Cavour\, organizza uno spettacolo musicale dedicato al grande musicista italiano Giuseppe Verdi\, interpretato dalla Banda giovanile John Lennon (Fondazione Scuola di Musica C.G. Andreoli) diretta dal Maestro Mirco Besutti. \nL’evento è aperto anche a bambini e ragazzi accompagnati.\nSeguirà un ricevimento. \n \nPER PARTECIPARE\, E’ NECESSARIO COMPILARE E RESTITUIRE IL COUPON:  Coupon  \n		0			\n	
URL:https://itin.lu/event/concerto-sempre-verdi-lussemburgo-domenica-20-ottobre-alle-ore-18/
LOCATION:Forum Geesseknäppchen 40\, Boulevard Pierre Dupong Luxembourg\, Forum Geesseknäppchen\, 40\, Boulevard Pierre Dupong\,\, Luxembourg
GEO:49.60061;6.113637
X-APPLE-STRUCTURED-LOCATION;VALUE=URI;X-ADDRESS=Forum Geesseknäppchen 40 Boulevard Pierre Dupong Luxembourg Forum Geesseknäppchen 40 Boulevard Pierre Dupong Luxembourg;X-APPLE-RADIUS=500;X-TITLE=Forum Geesseknäppchen\, 40\, Boulevard Pierre Dupong\,:geo:6.113637,49.60061
ATTACH;FMTTYPE=application/pdf:https://itin.lu/wp-content/uploads/2019/09/Sempreverdi-sito.pdf
END:VEVENT
END:VCALENDAR