BEGIN:VCALENDAR
VERSION:2.0
PRODID:-//Itin - ECPv4.9.0.3//NONSGML v1.0//EN
CALSCALE:GREGORIAN
METHOD:PUBLISH
X-WR-CALNAME:Itin
X-ORIGINAL-URL:https://itin.lu
X-WR-CALDESC:Events for Itin
BEGIN:VEVENT
DTSTART;TZID=UTC+0:20190917T173000
DTEND;TZID=UTC+0:20190917T213000
DTSTAMP:20200812T044407
CREATED:20190625T170321Z
LAST-MODIFIED:20190904T080615Z
UID:293-1568741400-1568755800@itin.lu
SUMMARY:NEL SEGNO DI LEONARDO: ITALIAN INNOVATORS IN LUXEMBOURG
DESCRIPTION:\nSAVE THE DATE 17th September 2019\n\nPer partecipare all’evento\, si prega di raccordarsi con: \n\nProfessor Daniele Brida: per “Fundamental Research”\nMr Diego Di Biasio: per “Start-up”\nProfessor Conchita D’Ambrosio: per “Economy and Social Sciences”\nMr Edgar Milic: per “Industrial Innovation”\n\nPROGRAMMA DELL’EVENTO \nCOUPON PER PARTECIPARE \n		0			\n	
URL:https://itin.lu/event/nel-segno-di-leonardo-italian-innovators-in-luxembourg/
LOCATION:MUDAM – Musée d’Art Contemporain Grand-Duc Jean\, MUDAM-3 Park Drai Eechelen\, Luxembourg\, 1499\, Luxembourg
GEO:49.6168646;6.1402619
X-APPLE-STRUCTURED-LOCATION;VALUE=URI;X-ADDRESS=MUDAM – Musée d’Art Contemporain Grand-Duc Jean MUDAM-3 Park Drai Eechelen Luxembourg 1499 Luxembourg;X-APPLE-RADIUS=500;X-TITLE=MUDAM-3 Park Drai Eechelen:geo:6.1402619,49.6168646
ATTACH;FMTTYPE=image/jpeg:https://itin.lu/wp-content/uploads/2019/06/Nel-segno-di-Leonardo-1.jpg
END:VEVENT
END:VCALENDAR