BEGIN:VCALENDAR
VERSION:2.0
PRODID:-//Itin - ECPv4.9.0.3//NONSGML v1.0//EN
CALSCALE:GREGORIAN
METHOD:PUBLISH
X-WR-CALNAME:Itin
X-ORIGINAL-URL:https://itin.lu
X-WR-CALDESC:Events for Itin
BEGIN:VEVENT
DTSTART;TZID=UTC+0:20190626T130000
DTEND;TZID=UTC+0:20190626T130000
DTSTAMP:20200812T045151
CREATED:20190611T083333Z
LAST-MODIFIED:20190624T140100Z
UID:256-1561554000-1561554000@itin.lu
SUMMARY:Inequality and Child Development in Deprived Populations
DESCRIPTION:This lecture is part of the lecture series “Inequality and…?”. It is organized by MARS\, Faculty of Humanities and Social Sciences\, University of Luxembourg\, the European Investment Bank Institute and LISER\, with CREA\, CSL\, LIS\, and STATEC. Financial support from the FNR is gratefully acknowledged.\nThe lecture is free but requires registration at: http://bit.ly/EIBI_events. For enquiries: inequality@uni.lu\n\nThe lecture of Prof. Meghir will discuss how interventions at early childhood affect key outcomes among disadvantaged children\, including cognition\, language and social skills. I will also examine how such interventions change the behaviour of households towards their children\, and more generally the way such interventions may be propagated and possibly amplified by changes in parental behaviour.\n		0			\n	
URL:https://itin.lu/event/inequality-and-child-development-in-deprived-populations/
LOCATION:European Investment Bank\, 98-100 Boulevard Konrad Adenauer\, Luxembourg\, L-2950\, Luxembourg
GEO:49.6331294;6.1653533
X-APPLE-STRUCTURED-LOCATION;VALUE=URI;X-ADDRESS=European Investment Bank 98-100 Boulevard Konrad Adenauer Luxembourg L-2950 Luxembourg;X-APPLE-RADIUS=500;X-TITLE=98-100 Boulevard Konrad Adenauer:geo:6.1653533,49.6331294
CATEGORIES:public
ATTACH;FMTTYPE=application/pdf:https://itin.lu/wp-content/uploads/2019/06/Lecture_Series_June22019email.pdf
END:VEVENT
END:VCALENDAR